BEGIN:VCALENDAR
VERSION:2.0
PRODID:-//Tu Sitio//Eventos ICS//ES
BEGIN:VEVENT
UID:69e60f4fa8eaa@atlas.woven.vc
DTSTAMP:20260420T113439Z
DTSTART:20260420T000000Z
DTEND:20260420T235900Z
SUMMARY:Kakezan Summit
DESCRIPTION:Kakezan Summit
LOCATION:WOVEN CITY, JAPAN
URL:
END:VEVENT
END:VCALENDAR